BEGIN:VCALENDAR
VERSION:2.0
PRODID:-//AMA Auctions - ECPv6.15.18//NONSGML v1.0//EN
CALSCALE:GREGORIAN
METHOD:PUBLISH
X-ORIGINAL-URL:https://amaauctions.com
X-WR-CALDESC:Events for AMA Auctions
REFRESH-INTERVAL;VALUE=DURATION:PT1H
X-Robots-Tag:noindex
X-PUBLISHED-TTL:PT1H
BEGIN:VTIMEZONE
TZID:UTC
BEGIN:STANDARD
TZOFFSETFROM:+0000
TZOFFSETTO:+0000
TZNAME:UTC
DTSTART:20220101T000000
END:STANDARD
END:VTIMEZONE
BEGIN:VEVENT
DTSTART;TZID=UTC:20260209T103000
DTEND;TZID=UTC:20260209T103000
DTSTAMP:20260425T105711
CREATED:20250818T215328Z
LAST-MODIFIED:20260108T185134Z
UID:19083-1770633000-1770633000@amaauctions.com
SUMMARY:NPFarms\, LLC Equipment Auction
DESCRIPTION:
URL:https://amaauctions.com/upcoming-auction/npfarms-llc-equipment-auction/
LOCATION:East of Peetz\, Colorado\, 11943 Road 2\, Sidney\, NE\, 69162
CATEGORIES:Farm Auction
END:VEVENT
BEGIN:VEVENT
DTSTART;VALUE=DATE:20250527
DTEND;VALUE=DATE:20250529
DTSTAMP:20260425T105711
CREATED:20210923T220842Z
LAST-MODIFIED:20250515T210908Z
UID:10997-1748304000-1748476799@amaauctions.com
SUMMARY:Two Day May Consignment Auction
DESCRIPTION:
URL:https://amaauctions.com/upcoming-auction/may-2025-consignment-auction/
LOCATION:AMA Auction Lot\, 17906 MCR 29\, Brush\, CO\, 80723
CATEGORIES:Consignment Auction
END:VEVENT
BEGIN:VEVENT
DTSTART;VALUE=DATE:20250225
DTEND;VALUE=DATE:20250227
DTSTAMP:20260425T105711
CREATED:20210728T192509Z
LAST-MODIFIED:20250213T160236Z
UID:10290-1740441600-1740614399@amaauctions.com
SUMMARY:Two Day February Consignment Auction
DESCRIPTION:Tues. Feb. 25th and Wed. Feb 26th\nBrush\, Colorado\nAt AMA lot East of town at Jnct of Hwys 34 and 71 \nDelivery Deadline for All Items is WEDNESDAY\, FEBRUARY 19th\, 2025. \nSelling Farm and Construction Equipment\, Tractors\, Loaders\, Forklifts\, Skid Steers\, Semi and Farm Trucks\, Vehicles\, ATV’s\, all types of Trailers\, Livestock Equipment\, Farm and Construction Attachments and more. \nLive On-Site Bidding Plus Pre-Auction and Live On-Line Bidding\, Phone and Absentee Bidding on all Items. \n Feb. 25th Items Feb. 26th Items \nCONTACT AMA WITH QUESTIONS ABOUT WHICH ITEMS WILL BE ACCEPTED.
URL:https://amaauctions.com/upcoming-auction/february-2025-consignment-auction/
LOCATION:AMA Auction Lot\, 17906 MCR 29\, Brush\, CO\, 80723
END:VEVENT
BEGIN:VEVENT
DTSTART;VALUE=DATE:20241220
DTEND;VALUE=DATE:20241221
DTSTAMP:20260425T105711
CREATED:20210914T141114Z
LAST-MODIFIED:20241216T231809Z
UID:10640-1734652800-1734739199@amaauctions.com
SUMMARY:Real Estate Auction
DESCRIPTION:Main Event Bar and Grill\n \nReal Estate Auction – Friday\, December 20th\, 2024 – 10:00 am \nCorner of Hwy 34 and South Cedar Street\, Yuma\, CO 80759\n\nTo be Sold at Public Auction with No Reserve\n\nAll bidders must be properly registered prior to the Auction and receive a Buyer’s Information Guide.\nThis property will be sold to the highest bidder with no reserve for cash\, 15% non-refundable earnest money due auction day\, balance of purchase price on or before January 21\, 2025\, date of closing. \nThis property was built in 1948 and the addition was added in 1992. New roof-top air conditioner in August 2024. New hot water heat pump in 2024. 4\,000 ± square feet featuring a 25ft fully equipped wet bar with an adjacent 9×10 walk-in cooler. Furnished 80 ± person dining room\, furnished 25 ± person private party or meeting space\, game room with three coin-operated 8-ball pool tables with racks and cues and an air hockey table\, several large TV’s throughout for game days\, finished basement with dry bar for additional private space. Fully equipped double sided kitchen featuring two 48” flat top griddles\, a 24” griddle\, a 6-eye burner\, a 36” char-broiler and fryer\, all under a 10ft and two 4ft hoods\, serviced in the last six months. A 6ft 3-door refrigerated prep table\, 5ft and 6ft stainless worktables\, stainless 3-bin sink with dishwasher and an additional stainless sink with drain board. 9×12 walk-in cooler with racking\, plus more. Pots and pans\, dish\, service and glassware\, plus more. \nFor more information contact Broker/Auctioneer Chuck Miller 970-842-5575
URL:https://amaauctions.com/upcoming-auction/real-estate-auction/
LOCATION:Colorado
CATEGORIES:Real Estate Auction
END:VEVENT
BEGIN:VEVENT
DTSTART;VALUE=DATE:20241211
DTEND;VALUE=DATE:20241212
DTSTAMP:20260425T105711
CREATED:20230905T174146Z
LAST-MODIFIED:20241210T221526Z
UID:16830-1733875200-1733961599@amaauctions.com
SUMMARY:Three Day December Consignment Auction
DESCRIPTION:Tuesday\, December 10th\, Wednesday\, December 11th & Thursday\, December 12th\nDelivery Deadline for All Items is Wednesday\, December 4th\, 2024. \nTuesday\, December 10th – 9:00am\nSelling Haying\, Harvest\, Support\, Tillage\, Planting\, Application & Feeding Equipment\, Mowers\, 3pt & Small Equipment\, Skid Steer Attachments\, Farm Misc.\, Livestock Equip\, Hay & Feed\, Livestock Shelters\, Fencing Material\, Metal & Lumber and much more. \nWednesday\, December 11th – 9:00am\nSelling Tractors\, Skid Steer\, Wheel Loader\, Forklifts\, Telehandlers\, Scissor Lift\, Trench Compactor\, Excavators\, Backhoe & More. Tractor Attachments & Tires Plus The Graff’s Turf Dissolution of Partnership \nThursday December 12th – 9:00am\nSelling Trucks\, Trailers\, Campers\, Boats & Vehicles\, Irrigation Equip\, Storage Containers & Building\, Truck Parts & Tires\, Shop Benches\, Commercial Shop Equipment\, Fuel & Product Tanks\, Truck Beds\, ATV’s\, & much more. \nLive On-Site Bidding Plus Pre-Auction & Live On-Line Bidding\, Phone & Absentee Bidding.\nCONTACT AMA WITH QUESTIONS ABOUT WHAT ITEMS WILL BE ACCEPTED.\n(no miscellaneous items accepted for this auction)
URL:https://amaauctions.com/upcoming-auction/december-2024-consignment-auction/
LOCATION:AMA Auction Lot\, 17906 MCR 29\, Brush\, CO\, 80723
END:VEVENT
BEGIN:VEVENT
DTSTART;VALUE=DATE:20230927
DTEND;VALUE=DATE:20230928
DTSTAMP:20260425T105711
CREATED:20230914T140041Z
LAST-MODIFIED:20230914T140905Z
UID:16847-1695772800-1695859199@amaauctions.com
SUMMARY:Two-Day September 2023 Consignment Auction Wednesday\, Sept. 27th - 9:00am
DESCRIPTION:Delivery Deadline is Wednesday\, September 20th\, 2023\nWednesday Selling: Tractors\, Wheel Loaders\, Skid Steer\, Telehandler & Forklift\, Semi & Farm Trucks\, Trailers\, Campers\, Boats\, Vehicles\, Motorhome\, ATV’s\, Shipping Containers\, Buildings\, Mobile Bathrooms\, Irrigation Equipment\, Fuel & Product Tanks\, Commercial Shop Equipment\, Pickup Beds & more.\n(No Miscellaneous items accepted for this auction)\nLive On-Site Bidding Plus Pre-Auction and Live On-Line Bidding\, Phone and Absentee Bidding on all Items.
URL:https://amaauctions.com/upcoming-auction/two-day-september-2023-consignment-auction-wednesday-sept-27th-1000am/
LOCATION:AMA Auction Lot\, 17906 MCR 29\, Brush\, CO\, 80723
END:VEVENT
BEGIN:VEVENT
DTSTART;VALUE=DATE:20230524
DTEND;VALUE=DATE:20230525
DTSTAMP:20260425T105711
CREATED:20201116T164656Z
LAST-MODIFIED:20250729T165552Z
UID:9135-1684886400-1684972799@amaauctions.com
SUMMARY:THREE DAY MAY CONSIGNMENT AUCTION - WEDNESDAY MAY 24th - 9am
DESCRIPTION:Wednesday Selling: Tractors\, Wheel Loaders\, Forklifts\, Skid Steers\, Backhoe\, Trucks\, Trailers\, Vehicles\, Campers & Boats\, Truck & Pickup Beds\, Irrigation & Chemigation Equipment\, Sprinkler Tires & Parts\, Product Tanks\, Buildings\, Shipping & Storage Containers\, Plus Much More \nLIVE ONLINE BIDDING AVAILABLE FOR THE WEDNESDAY PORTION. \n  \n 
URL:https://amaauctions.com/upcoming-auction/october-26th-consignment-auction-wednesday/
LOCATION:Colorado
CATEGORIES:Consignment Auction
ATTACH;FMTTYPE=image/jpeg:https://amaauctions.com/wp-content/uploads/2019/02/AMA-Photo-Grid-7.jpg
END:VEVENT
BEGIN:VEVENT
DTSTART;VALUE=DATE:20230523
DTEND;VALUE=DATE:20230524
DTSTAMP:20260425T105711
CREATED:20210121T204913Z
LAST-MODIFIED:20230512T182151Z
UID:9347-1684800000-1684886399@amaauctions.com
SUMMARY:THREE DAY MAY CONSIGNMENT AUCTION- TUESDAY MAY 23rd - 9am
DESCRIPTION:Tuesday\, May 23rd Selling: Haying\, Harvest\, Spraying\, Planting\, Tillage\, Support & Feeding Equipment\, 3pt Equipment\, Skid Steer Attachments\, Farm Miscellaneous & Attachments\, Truck Parts\, Tractor & Truck Tires\, Fuel & Propane Tanks\, Livestock Equipment\, Hay\, Lumber & Tin Plus Much More. \nLIVE ONLINE BIDDING AVAILABLE FOR THE TUESDAY PORTION.
URL:https://amaauctions.com/upcoming-auction/may-consignment-auction/
LOCATION:AMA Auction Lot\, 17906 MCR 29\, Brush\, CO\, 80723
CATEGORIES:Consignment Auction
ATTACH;FMTTYPE=image/jpeg:https://amaauctions.com/wp-content/uploads/2019/02/AMA-Photo-Grid-5.jpg
END:VEVENT
END:VCALENDAR